BEGIN:VCALENDAR
VERSION:2.0
PRODID:-//ExpressionEngine Easy iCalendar plugin//NONSGML v2.0.1//EN
X-WR-TIMEZONE:America/Chicago
X-WR-CALNAME:Upcoming Auctions
BEGIN:VEVENT
UID:157560
DTSTAMP:20260402T100000
DTSTART:20260402T100000
DTEND:20260402T110000
SUMMARY:Sale Pending - Story Co.\, IA - 98.05 Ac.\, m/l (000-4133)
LOCATION:{location}
DESCRIPTION:98.05 Acres Will Be Offered in 2 Parcels!
URL:https://hertz.bwpreview.com/auctions/detail/bw157560
SEQUENCE:1
END:VEVENT
END:VCALENDAR