BEGIN:VCALENDAR
VERSION:2.0
PRODID:-//ExpressionEngine Easy iCalendar plugin//NONSGML v2.0.1//EN
X-WR-TIMEZONE:America/Chicago
X-WR-CALNAME:Upcoming Auctions
BEGIN:VEVENT
UID:156051
DTSTAMP:20260303T120000
DTSTART:20260303T120000
DTEND:20260303T130000
SUMMARY:Sale Pending - McLeod Co.\, MN - 158.99 Ac.\, m/l (190-0324)
LOCATION:{location}
DESCRIPTION:158.99 Acres Will Be Offered in 2 Parcels!
URL:https://hertz.bwpreview.com/auctions/detail/bw156051
SEQUENCE:1
END:VEVENT
END:VCALENDAR