BEGIN:VCALENDAR
VERSION:2.0
PRODID:-//ExpressionEngine Easy iCalendar plugin//NONSGML v2.0.1//EN
X-WR-TIMEZONE:America/Chicago
X-WR-CALNAME:Upcoming Auctions
BEGIN:VEVENT
UID:155409
DTSTAMP:20260226T120000
DTSTART:20260226T120000
DTEND:20260226T130000
SUMMARY:Closed - Black Hawk Co.\, IA - 194.78 Ac.\, m/l (050-1403-02)
LOCATION:Cedar Heights Dr.\, Cedar Falls\, IA 50613\, US
DESCRIPTION:Future Development Land Within Cedar Falls City Limits!
URL:https://hertz.bwpreview.com/auctions/detail/bw155409
SEQUENCE:1
END:VEVENT
END:VCALENDAR