BEGIN:VCALENDAR
VERSION:2.0
PRODID:-//ExpressionEngine Easy iCalendar plugin//NONSGML v2.0.1//EN
X-WR-TIMEZONE:America/Chicago
X-WR-CALNAME:Upcoming Auctions
BEGIN:VEVENT
UID:155287
DTSTAMP:20260225T110000
DTSTART:20260225T110000
DTEND:20260225T120000
SUMMARY:Closed- Brown Co.\, MN - 55.32 Ac.\, m/l (190-0317-01)
LOCATION:110th St. at 231th Ave.\, Hanska\, MN 56041\, US
DESCRIPTION:55.32 Acres Will Be Offered as a Single Parcel!
URL:https://hertz.bwpreview.com/auctions/detail/bw155287
SEQUENCE:1
END:VEVENT
END:VCALENDAR