BEGIN:VCALENDAR
VERSION:2.0
PRODID:-//ExpressionEngine Easy iCalendar plugin//NONSGML v2.0.1//EN
X-WR-TIMEZONE:America/Chicago
X-WR-CALNAME:Upcoming Auctions
BEGIN:VEVENT
UID:154658
DTSTAMP:20260219T100000
DTSTART:20260219T100000
DTEND:20260219T110000
SUMMARY:Closed - DeKalb Co.\, IL - 158.966 Ac.\, m/l (070-0105)
LOCATION:{location}
DESCRIPTION:158.966 Acres Will Be Offered in 2 Parcels!
URL:https://hertz.bwpreview.com/auctions/detail/bw154658
SEQUENCE:1
END:VEVENT
END:VCALENDAR