BEGIN:VCALENDAR
VERSION:2.0
PRODID:-//ExpressionEngine Easy iCalendar plugin//NONSGML v2.0.1//EN
X-WR-TIMEZONE:America/Chicago
X-WR-CALNAME:Upcoming Auctions
BEGIN:VEVENT
UID:154318
DTSTAMP:20260130T140000
DTSTART:20260130T140000
DTEND:20260130T150000
SUMMARY:Closed - Sarpy Co.\, NE - 79.68 Ac.\, m/l (090-0253-01)
LOCATION:Capehart Rd.\, Springfield\, NE 68059\, US
DESCRIPTION:Quality Sarpy County Farmland!
URL:https://hertz.bwpreview.com/auctions/detail/bw154318
SEQUENCE:1
END:VEVENT
END:VCALENDAR