BEGIN:VCALENDAR
VERSION:2.0
PRODID:-//ExpressionEngine Easy iCalendar plugin//NONSGML v2.0.1//EN
X-WR-TIMEZONE:America/Chicago
X-WR-CALNAME:Upcoming Auctions
BEGIN:VEVENT
UID:153750
DTSTAMP:20260120T120000
DTSTART:20260120T120000
DTEND:20260120T130000
SUMMARY:Closed - Whiteside Co.\, IL - 216.08 Ac.\, ml/ (100-0239)
LOCATION:{location}
DESCRIPTION:216.08 Acres Will Be Offered in 4 Parcels!
URL:https://hertz.bwpreview.com/auctions/detail/bw153750
SEQUENCE:1
END:VEVENT
END:VCALENDAR