BEGIN:VCALENDAR
VERSION:2.0
PRODID:-//ExpressionEngine Easy iCalendar plugin//NONSGML v2.0.1//EN
X-WR-TIMEZONE:America/Chicago
X-WR-CALNAME:Upcoming Auctions
BEGIN:VEVENT
UID:153318
DTSTAMP:20260114T100000
DTSTART:20260114T100000
DTEND:20260114T110000
SUMMARY:Closed- Livingston Co.\, IL - 162.50 Ac.\, m/l (130-0195)
LOCATION:{location}
DESCRIPTION:162.50 Acres Will Be Offered in 2 Parcels!
URL:https://hertz.bwpreview.com/auctions/detail/bw153318
SEQUENCE:1
END:VEVENT
END:VCALENDAR