BEGIN:VCALENDAR
VERSION:2.0
PRODID:-//ExpressionEngine Easy iCalendar plugin//NONSGML v2.0.1//EN
X-WR-TIMEZONE:America/Chicago
X-WR-CALNAME:Upcoming Auctions
BEGIN:VEVENT
UID:153160
DTSTAMP:20260113T120000
DTSTART:20260113T120000
DTEND:20260113T130000
SUMMARY:Closed - Brown Co.\, MN - 312.25 Ac.\, /ml (190-0260)
LOCATION:{location}
DESCRIPTION:312.25 Acres Will Be Offered in 2 Parcels!
URL:https://hertz.bwpreview.com/auctions/detail/bw153160
SEQUENCE:1
END:VEVENT
END:VCALENDAR