BEGIN:VCALENDAR
VERSION:2.0
PRODID:-//ExpressionEngine Easy iCalendar plugin//NONSGML v2.0.1//EN
X-WR-TIMEZONE:America/Chicago
X-WR-CALNAME:Upcoming Auctions
BEGIN:VEVENT
UID:153137
DTSTAMP:20260114T120000
DTSTART:20260114T120000
DTEND:20260114T130000
SUMMARY:Closed - Blue Earth Co.\, MN - 49.14 Ac.\, m/l (190-0313-01)
LOCATION:610th Ave.\, Eagle Lake \, MN 56024\, US
DESCRIPTION:High-Quality\, Highly Tillable Blue Earth County Farm Near E
 agle Lake!
URL:https://hertz.bwpreview.com/auctions/detail/bw153137
SEQUENCE:1
END:VEVENT
END:VCALENDAR