BEGIN:VCALENDAR
VERSION:2.0
PRODID:-//ExpressionEngine Easy iCalendar plugin//NONSGML v2.0.1//EN
X-WR-TIMEZONE:America/Chicago
X-WR-CALNAME:Upcoming Auctions
BEGIN:VEVENT
UID:152498
DTSTAMP:20251218T120000
DTSTART:20251218T120000
DTEND:20251218T130000
SUMMARY:Closed - Brown Co.\, MN - 7.25 Ac.\, ml (190-0260-03)
LOCATION:13384 300th Ave.\, Comfrey\, MN 56019\, US
DESCRIPTION:Spacious Country Living Near Sleepy Eye\, Minnesota!
URL:https://hertz.bwpreview.com/auctions/detail/bw152498
SEQUENCE:1
END:VEVENT
END:VCALENDAR