BEGIN:VCALENDAR
VERSION:2.0
PRODID:-//ExpressionEngine Easy iCalendar plugin//NONSGML v2.0.1//EN
X-WR-TIMEZONE:America/Chicago
X-WR-CALNAME:Upcoming Auctions
BEGIN:VEVENT
UID:152030
DTSTAMP:20251210T100000
DTSTART:20251210T100000
DTEND:20251210T110000
SUMMARY:Closed - Iroquois Co.\, IL - 153.00 Ac.\, m/l (130-0194)
LOCATION:{location}
DESCRIPTION:153.00 Acres Will be Offered in 3 Parcels!
URL:https://hertz.bwpreview.com/auctions/detail/bw152030
SEQUENCE:1
END:VEVENT
END:VCALENDAR