BEGIN:VCALENDAR
VERSION:2.0
PRODID:-//ExpressionEngine Easy iCalendar plugin//NONSGML v2.0.1//EN
X-WR-TIMEZONE:America/Chicago
X-WR-CALNAME:Upcoming Auctions
BEGIN:VEVENT
UID:152021
DTSTAMP:20251216T120000
DTSTART:20251216T120000
DTEND:20251216T130000
SUMMARY:Closed - Steele Co.\, MN - 61.58 Ac.\, m/l (190-0312-01)
LOCATION:NE 14th Ave.\, Medford\, MN 55049\, US
DESCRIPTION:Quality Steele County Farmland!
URL:https://hertz.bwpreview.com/auctions/detail/bw152021
SEQUENCE:1
END:VEVENT
END:VCALENDAR