BEGIN:VCALENDAR
VERSION:2.0
PRODID:-//ExpressionEngine Easy iCalendar plugin//NONSGML v2.0.1//EN
X-WR-TIMEZONE:America/Chicago
X-WR-CALNAME:Upcoming Auctions
BEGIN:VEVENT
UID:151748
DTSTAMP:20251205T120000
DTSTART:20251205T120000
DTEND:20251205T130000
SUMMARY:Closed - Winneshiek Co.\, IA - 20.00 Ac.\, m/l (020-0583-01)
LOCATION:Co. Rd. A23\, Kendallville\, IA 52136\, US
DESCRIPTION:Prime Timber Located Along the Upper Iowa River!
URL:https://hertz.bwpreview.com/auctions/detail/bw151748
SEQUENCE:1
END:VEVENT
END:VCALENDAR