BEGIN:VCALENDAR
VERSION:2.0
PRODID:-//ExpressionEngine Easy iCalendar plugin//NONSGML v2.0.1//EN
X-WR-TIMEZONE:America/Chicago
X-WR-CALNAME:Upcoming Auctions
BEGIN:VEVENT
UID:150416
DTSTAMP:20251120T120000
DTSTART:20251120T120000
DTEND:20251120T130000
SUMMARY:Closed - Henry Co.\, IL - 93.27 Ac.\, m/l (100-0234-01)
LOCATION:N 1800th Ave.\, Atkinson\, IL 61235\, US
DESCRIPTION:Quality Henry County\, Illinois Farmland!
URL:https://hertz.bwpreview.com/auctions/detail/bw150416
SEQUENCE:1
END:VEVENT
END:VCALENDAR