BEGIN:VCALENDAR
VERSION:2.0
PRODID:-//ExpressionEngine Easy iCalendar plugin//NONSGML v2.0.1//EN
X-WR-TIMEZONE:America/Chicago
X-WR-CALNAME:Upcoming Auctions
BEGIN:VEVENT
UID:150338
DTSTAMP:20251119T120000
DTSTART:20251119T120000
DTEND:20251119T130000
SUMMARY:Closed - Cass/Shelby Co.\, IA - 333.11 Ac.\, m/l (090-0246)
LOCATION:{location}
DESCRIPTION:333.11 Acres Will be Offered in 2 Parcels!
URL:https://hertz.bwpreview.com/auctions/detail/bw150338
SEQUENCE:1
END:VEVENT
END:VCALENDAR