BEGIN:VCALENDAR
VERSION:2.0
PRODID:-//ExpressionEngine Easy iCalendar plugin//NONSGML v2.0.1//EN
X-WR-TIMEZONE:America/Chicago
X-WR-CALNAME:Upcoming Auctions
BEGIN:VEVENT
UID:149994
DTSTAMP:20251113T100000
DTSTART:20251113T100000
DTEND:20251113T110000
SUMMARY:Closed - Hancock Co.\, IA - 105.00 Ac.\, m/l (020-0582-01)
LOCATION:1625 110th St.\, Goodell\, IA 50439\, US
DESCRIPTION:105.00 Acres Will be Offered as a Single Parcel!
URL:https://hertz.bwpreview.com/auctions/detail/bw149994
SEQUENCE:1
END:VEVENT
END:VCALENDAR