BEGIN:VCALENDAR
VERSION:2.0
PRODID:-//ExpressionEngine Easy iCalendar plugin//NONSGML v2.0.1//EN
X-WR-TIMEZONE:America/Chicago
X-WR-CALNAME:Upcoming Auctions
BEGIN:VEVENT
UID:149263
DTSTAMP:20251029T120000
DTSTART:20251029T120000
DTEND:20251029T130000
SUMMARY:Sale Pending - Rock Island Co.\, IL - 179.00 Ac.\, ml (100-022
 9-01)
LOCATION:162nd Ave. W\, Illinois City\, IL 61259\, US
DESCRIPTION:179.00 Acres Will be Offered as a Single Parcel!
URL:https://hertz.bwpreview.com/auctions/detail/bw149263
SEQUENCE:1
END:VEVENT
END:VCALENDAR