BEGIN:VCALENDAR
VERSION:2.0
PRODID:-//ExpressionEngine Easy iCalendar plugin//NONSGML v2.0.1//EN
X-WR-TIMEZONE:America/Chicago
X-WR-CALNAME:Upcoming Auctions
BEGIN:VEVENT
UID:149202
DTSTAMP:20251030T100000
DTSTART:20251030T100000
DTEND:20251030T110000
SUMMARY:Closed - Vermilion Co.\, IL - 40.00 Ac.\, ml/ (130-0187-01)
LOCATION:Co. Rd. 2800 N\, Alvin \, IL 61811\, US
DESCRIPTION:40.00 Acres Will be Offered as a Single Parcel!
URL:https://hertz.bwpreview.com/auctions/detail/bw149202
SEQUENCE:1
END:VEVENT
END:VCALENDAR