BEGIN:VCALENDAR
VERSION:2.0
PRODID:-//ExpressionEngine Easy iCalendar plugin//NONSGML v2.0.1//EN
X-WR-TIMEZONE:America/Chicago
X-WR-CALNAME:Upcoming Auctions
BEGIN:VEVENT
UID:149122
DTSTAMP:20251107T120000
DTSTART:20251107T120000
DTEND:20251107T130000
SUMMARY:Closed - Marshall Co.\, IA - 263.58 Ac.\, m/l (000-4130)
LOCATION:{location}
DESCRIPTION:263.58 Acres Will be Offered in 2 Parcels!
URL:https://hertz.bwpreview.com/auctions/detail/bw149122
SEQUENCE:1
END:VEVENT
END:VCALENDAR