BEGIN:VCALENDAR
VERSION:2.0
PRODID:-//ExpressionEngine Easy iCalendar plugin//NONSGML v2.0.1//EN
X-WR-TIMEZONE:America/Chicago
X-WR-CALNAME:Upcoming Auctions
BEGIN:VEVENT
UID:149119
DTSTAMP:20251029T100000
DTSTART:20251029T100000
DTEND:20251029T110000
SUMMARY:Closed - Henry Co.\, IL - 181.09 Ac.\, ml/ (100-0233)
LOCATION:{location}
DESCRIPTION:181.09 Acres Will be Offered in 2 Parcels!
URL:https://hertz.bwpreview.com/auctions/detail/bw149119
SEQUENCE:1
END:VEVENT
END:VCALENDAR