BEGIN:VCALENDAR
VERSION:2.0
PRODID:-//ExpressionEngine Easy iCalendar plugin//NONSGML v2.0.1//EN
X-WR-TIMEZONE:America/Chicago
X-WR-CALNAME:Upcoming Auctions
BEGIN:VEVENT
UID:148635
DTSTAMP:20251106T100000
DTSTART:20251106T100000
DTEND:20251106T110000
SUMMARY:Closed - Lyon Co.\, IA - 316.81 Ac.\, m/l (040-0324)
LOCATION:{location}
DESCRIPTION:316.81 Acres Will be Offered in 2 Parcels!
URL:https://hertz.bwpreview.com/auctions/detail/bw148635
SEQUENCE:1
END:VEVENT
END:VCALENDAR