BEGIN:VCALENDAR
VERSION:2.0
PRODID:-//ExpressionEngine Easy iCalendar plugin//NONSGML v2.0.1//EN
X-WR-TIMEZONE:America/Chicago
X-WR-CALNAME:Upcoming Auctions
BEGIN:VEVENT
UID:148222
DTSTAMP:20251015T100000
DTSTART:20251015T100000
DTEND:20251015T110000
SUMMARY:Closed - Appanoose/Wayne Co.\, IA - 44.42 Ac.\, m/l (000-4088-
 01)
LOCATION:245th St.\, Seymour\, IA 52590\, US
DESCRIPTION:44.42 Acres Will be Offered as a Single Parcel!
URL:https://hertz.bwpreview.com/auctions/detail/bw148222
SEQUENCE:1
END:VEVENT
END:VCALENDAR