BEGIN:VCALENDAR
VERSION:2.0
PRODID:-//ExpressionEngine Easy iCalendar plugin//NONSGML v2.0.1//EN
X-WR-TIMEZONE:America/Chicago
X-WR-CALNAME:Upcoming Auctions
BEGIN:VEVENT
UID:148059
DTSTAMP:20251111T120000
DTSTART:20251111T120000
DTEND:20251111T130000
SUMMARY:Closed - Sibley Co.\, MN - 26.61 Ac.\, ml (190-0298-01)
LOCATION:Freedom Dr. / 240th St.\, Arlington\, MN 55307\, US
DESCRIPTION:Great Development Potential within the City Limits of Arling
 ton!
URL:https://hertz.bwpreview.com/auctions/detail/bw148059
SEQUENCE:1
END:VEVENT
END:VCALENDAR