BEGIN:VCALENDAR
VERSION:2.0
PRODID:-//ExpressionEngine Easy iCalendar plugin//NONSGML v2.0.1//EN
X-WR-TIMEZONE:America/Chicago
X-WR-CALNAME:Upcoming Auctions
BEGIN:VEVENT
UID:147829
DTSTAMP:20251001T100000
DTSTART:20251001T100000
DTEND:20251001T110000
SUMMARY:Closed - Linn Co.\, IA - 76.22 Ac.\, ml (010-3125-01)
LOCATION:Old Center Rd.\, Alburnett\, IA 52202\, US
DESCRIPTION:76.22 Acres Will be Offered as a Single Parcel!
URL:https://hertz.bwpreview.com/auctions/detail/bw147829
SEQUENCE:1
END:VEVENT
END:VCALENDAR