BEGIN:VCALENDAR
VERSION:2.0
PRODID:-//ExpressionEngine Easy iCalendar plugin//NONSGML v2.0.1//EN
X-WR-TIMEZONE:America/Chicago
X-WR-CALNAME:Upcoming Auctions
BEGIN:VEVENT
UID:147788
DTSTAMP:20251014T120000
DTSTART:20251014T120000
DTEND:20251014T130000
SUMMARY:Closed - Henry Co.\, IL - 316.61 Ac.\, m/l (100-0219)
LOCATION:{location}
DESCRIPTION:316.61 Acres Will be Offered in 3 Parcels!
URL:https://hertz.bwpreview.com/auctions/detail/bw147788
SEQUENCE:1
END:VEVENT
END:VCALENDAR