BEGIN:VCALENDAR
VERSION:2.0
PRODID:-//ExpressionEngine Easy iCalendar plugin//NONSGML v2.0.1//EN
X-WR-TIMEZONE:America/Chicago
X-WR-CALNAME:Upcoming Auctions
BEGIN:VEVENT
UID:147501
DTSTAMP:20251104T120000
DTSTART:20251104T120000
DTEND:20251104T130000
SUMMARY:Closed - Rice Co.\, MN - 40.00 Ac.\, m/l (190-0297-01)
LOCATION:Co Rd. 25 / 197th St. E\, Faribault\, MN 55021\, US
DESCRIPTION:Buildable\, Pattern-Tiled Farm Near Faribault\, Minnesota!
URL:https://hertz.bwpreview.com/auctions/detail/bw147501
SEQUENCE:1
END:VEVENT
END:VCALENDAR