BEGIN:VCALENDAR
VERSION:2.0
PRODID:-//ExpressionEngine Easy iCalendar plugin//NONSGML v2.0.1//EN
X-WR-TIMEZONE:America/Chicago
X-WR-CALNAME:Upcoming Auctions
BEGIN:VEVENT
UID:147426
DTSTAMP:20250926T100000
DTSTART:20250926T100000
DTEND:20250926T110000
SUMMARY:Closed - Johnson Co.\, IA - 60.00 Ac.\, ml (010-3124-01)
LOCATION:1210 Chambers Ave. NW\, Fairfax\, IA 52228\, US
DESCRIPTION:60.00 Acres Will be Offered as a Single Parcel!
URL:https://hertz.bwpreview.com/auctions/detail/bw147426
SEQUENCE:1
END:VEVENT
END:VCALENDAR