BEGIN:VCALENDAR
VERSION:2.0
PRODID:-//ExpressionEngine Easy iCalendar plugin//NONSGML v2.0.1//EN
X-WR-TIMEZONE:America/Chicago
X-WR-CALNAME:Upcoming Auctions
BEGIN:VEVENT
UID:146935
DTSTAMP:20250924T100000
DTSTART:20250924T100000
DTEND:20250924T110000
SUMMARY:Closed - Henry Co.\, IL - 77.30 Ac.\, m/l (100-0227-01)
LOCATION:E 700th St. @ N 1500th Ave.\, Osco\, IL 61274\, US
DESCRIPTION:77.30 Acres Will be Offered in 1 Parcel!
URL:https://hertz.bwpreview.com/auctions/detail/bw146935
SEQUENCE:1
END:VEVENT
END:VCALENDAR