BEGIN:VCALENDAR
VERSION:2.0
PRODID:-//ExpressionEngine Easy iCalendar plugin//NONSGML v2.0.1//EN
X-WR-TIMEZONE:America/Chicago
X-WR-CALNAME:Upcoming Auctions
BEGIN:VEVENT
UID:146934
DTSTAMP:20250919T100000
DTSTART:20250919T100000
DTEND:20250919T110000
SUMMARY:Closed- Grundy Co.\, IA - 118.38 Ac.\, m/l (050-1388-01)
LOCATION:N Pioneer Rd.\, Dike \, IA 50624\, US
DESCRIPTION:118.38 Acres Will be Offered in 1 Parcel!
URL:https://hertz.bwpreview.com/auctions/detail/bw146934
SEQUENCE:1
END:VEVENT
END:VCALENDAR