BEGIN:VCALENDAR
VERSION:2.0
PRODID:-//ExpressionEngine Easy iCalendar plugin//NONSGML v2.0.1//EN
X-WR-TIMEZONE:America/Chicago
X-WR-CALNAME:Upcoming Auctions
BEGIN:VEVENT
UID:146788
DTSTAMP:20250930T120000
DTSTART:20250930T120000
DTEND:20250930T130000
SUMMARY:Closed - Le Sueur Co\, MN - 80.00 Ac.\, m/l (190-0287-01)
LOCATION:{location}
DESCRIPTION:Excellent Home Site & Wildlife Property Near Waterville\, MN!
URL:https://hertz.bwpreview.com/auctions/detail/bw146788
SEQUENCE:1
END:VEVENT
END:VCALENDAR