BEGIN:VCALENDAR
VERSION:2.0
PRODID:-//ExpressionEngine Easy iCalendar plugin//NONSGML v2.0.1//EN
X-WR-TIMEZONE:America/Chicago
X-WR-CALNAME:Upcoming Auctions
BEGIN:VEVENT
UID:146607
DTSTAMP:20250918T100000
DTSTART:20250918T100000
DTEND:20250918T110000
SUMMARY:Closed - Iroquois\, IL - 189.78 Ac.\, m/l (130-0185)
LOCATION:{location}
DESCRIPTION:189.78 Acres will be Offered in 3 Parcels!
URL:https://hertz.bwpreview.com/auctions/detail/bw146607
SEQUENCE:1
END:VEVENT
END:VCALENDAR