BEGIN:VCALENDAR
VERSION:2.0
PRODID:-//ExpressionEngine Easy iCalendar plugin//NONSGML v2.0.1//EN
X-WR-TIMEZONE:America/Chicago
X-WR-CALNAME:Upcoming Auctions
BEGIN:VEVENT
UID:146246
DTSTAMP:20250916T110000
DTSTART:20250916T110000
DTEND:20250916T120000
SUMMARY:Closed - Jackson Co.\, MN - 145.72 Ac.\, m/l (190-0294-01)
LOCATION:Co. Rd. 8 / 740th St.\, Jackson\, MN 56143\, US
DESCRIPTION:145.72 Acres to be Offered as a Single Parcel!
URL:https://hertz.bwpreview.com/auctions/detail/bw146246
SEQUENCE:1
END:VEVENT
END:VCALENDAR