BEGIN:VCALENDAR
VERSION:2.0
PRODID:-//ExpressionEngine Easy iCalendar plugin//NONSGML v2.0.1//EN
X-WR-TIMEZONE:America/Chicago
X-WR-CALNAME:Upcoming Auctions
BEGIN:VEVENT
UID:146089
DTSTAMP:20250904T100000
DTSTART:20250904T100000
DTEND:20250904T110000
SUMMARY:Closed- Cedar Co.\, IA  - 156.50 Ac.\, m/l (010-2949-01)
LOCATION:Cedar-Jones Rd. @ King Ave.\, Olin\, IA 52320\, US
DESCRIPTION:156.50 Ac. will be offered as a Single Parcel!
URL:https://hertz.bwpreview.com/auctions/detail/bw146089
SEQUENCE:1
END:VEVENT
END:VCALENDAR