BEGIN:VCALENDAR
VERSION:2.0
PRODID:-//ExpressionEngine Easy iCalendar plugin//NONSGML v2.0.1//EN
X-WR-TIMEZONE:America/Chicago
X-WR-CALNAME:Upcoming Auctions
BEGIN:VEVENT
UID:145740
DTSTAMP:20250910T100000
DTSTART:20250910T100000
DTEND:20250910T110000
SUMMARY:Closed - Rock Island Co.\, IL - 234.98 Ac.\, m/l (100-0222)
LOCATION:{location}
DESCRIPTION:234.98 Acres Will be Offered in 3 Parcels!
URL:https://hertz.bwpreview.com/auctions/detail/bw145740
SEQUENCE:1
END:VEVENT
END:VCALENDAR