BEGIN:VCALENDAR
VERSION:2.0
PRODID:-//ExpressionEngine Easy iCalendar plugin//NONSGML v2.0.1//EN
X-WR-TIMEZONE:America/Chicago
X-WR-CALNAME:Upcoming Auctions
BEGIN:VEVENT
UID:145309
DTSTAMP:20250828T120000
DTSTART:20250828T120000
DTEND:20250828T130000
SUMMARY:Closed - McLeod Co.\, MN - 318.57 Ac.\, m/l (190-0290)
LOCATION:{location}
DESCRIPTION:318.57 Acres Will Be Offered in 4 Parcels!
URL:https://hertz.bwpreview.com/auctions/detail/bw145309
SEQUENCE:1
END:VEVENT
END:VCALENDAR