BEGIN:VCALENDAR
VERSION:2.0
PRODID:-//ExpressionEngine Easy iCalendar plugin//NONSGML v2.0.1//EN
X-WR-TIMEZONE:America/Chicago
X-WR-CALNAME:Upcoming Auctions
BEGIN:VEVENT
UID:145075
DTSTAMP:20250826T100000
DTSTART:20250826T100000
DTEND:20250826T110000
SUMMARY:Closed - Waseca Co.\, MN - 214.28 Ac.\, ml (190-0284)
LOCATION:{location}
DESCRIPTION:214.28 Acres Will Be Offered in 2 Parcels!
URL:https://hertz.bwpreview.com/auctions/detail/bw145075
SEQUENCE:1
END:VEVENT
END:VCALENDAR