BEGIN:VCALENDAR
VERSION:2.0
PRODID:-//ExpressionEngine Easy iCalendar plugin//NONSGML v2.0.1//EN
X-WR-TIMEZONE:America/Chicago
X-WR-CALNAME:Upcoming Auctions
BEGIN:VEVENT
UID:144406
DTSTAMP:20250806T100000
DTSTART:20250806T100000
DTEND:20250806T110000
SUMMARY:Closed - Iowa Co.\, IA - 146.73 Ac.\, m/l (010-3072-01)
LOCATION:D St./190th St.\, Conroy\, IA 52220\, US
DESCRIPTION:146.73 Acres Will be Offered as a Single Parcel!
URL:https://hertz.bwpreview.com/auctions/detail/bw144406
SEQUENCE:1
END:VEVENT
END:VCALENDAR