BEGIN:VCALENDAR
VERSION:2.0
PRODID:-//ExpressionEngine Easy iCalendar plugin//NONSGML v2.0.1//EN
X-WR-TIMEZONE:America/Chicago
X-WR-CALNAME:Upcoming Auctions
BEGIN:VEVENT
UID:143595
DTSTAMP:20250819T100000
DTSTART:20250819T100000
DTEND:20250819T110000
SUMMARY:Closed - Iroquois Co.\, IL - 112.00 Ac.\, ml (130-0183-01)
LOCATION:E 1600 N Rd.\, Watseka\, IL 60970\, US
DESCRIPTION:112.00 Acres Will be Offered as a Single Parcel!
URL:https://hertz.bwpreview.com/auctions/detail/bw143595
SEQUENCE:1
END:VEVENT
END:VCALENDAR