BEGIN:VCALENDAR
VERSION:2.0
PRODID:-//ExpressionEngine Easy iCalendar plugin//NONSGML v2.0.1//EN
X-WR-TIMEZONE:America/Chicago
X-WR-CALNAME:Upcoming Auctions
BEGIN:VEVENT
UID:142916
DTSTAMP:20250718T100000
DTSTART:20250718T100000
DTEND:20250718T110000
SUMMARY:Closed - Linn Co.\, IA - 115.89 Ac.\, m/l (010-3050-01)
LOCATION:Springville Rd. @ Abbe Hills Rd.\, Mount Vernone\, IA 52314\, U
 S
DESCRIPTION:115.89 Acres Will Be Offered as a Single Parcel!
URL:https://hertz.bwpreview.com/auctions/detail/bw142916
SEQUENCE:1
END:VEVENT
END:VCALENDAR