BEGIN:VCALENDAR
VERSION:2.0
PRODID:-//ExpressionEngine Easy iCalendar plugin//NONSGML v2.0.1//EN
X-WR-TIMEZONE:America/Chicago
X-WR-CALNAME:Upcoming Auctions
BEGIN:VEVENT
UID:141764
DTSTAMP:20250701T120000
DTSTART:20250701T120000
DTEND:20250701T130000
SUMMARY:Closed - Blue Earth Co.\, MN - 145.29 Ac.\, ml (190-0272)
LOCATION:{location}
DESCRIPTION:145.29 Acres Will be Offered in 3 Parcels!
URL:https://hertz.bwpreview.com/auctions/detail/bw141764
SEQUENCE:1
END:VEVENT
END:VCALENDAR