BEGIN:VCALENDAR
VERSION:2.0
PRODID:-//ExpressionEngine Easy iCalendar plugin//NONSGML v2.0.1//EN
X-WR-TIMEZONE:America/Chicago
X-WR-CALNAME:Upcoming Auctions
BEGIN:VEVENT
UID:141576
DTSTAMP:20250710T120000
DTSTART:20250710T120000
DTEND:20250710T130000
SUMMARY:Sale Pending - Macoupin Co.\, IL - 270.00 Ac.\, m/l (030-0500-
 01)
LOCATION:Boston Chapel Rd.\, Waggoner\, IL 62572\, US
DESCRIPTION:270.00 Acres Will be Offered in 1 Parcel!
URL:https://hertz.bwpreview.com/auctions/detail/bw141576
SEQUENCE:1
END:VEVENT
END:VCALENDAR