BEGIN:VCALENDAR
VERSION:2.0
PRODID:-//ExpressionEngine Easy iCalendar plugin//NONSGML v2.0.1//EN
X-WR-TIMEZONE:America/Denver
X-WR-CALNAME:Upcoming Auctions
BEGIN:VEVENT
UID:139505
DTSTAMP:20250603T120000
DTSTART:20250603T120000
DTEND:20250603T130000
SUMMARY:Closed - Polk/Story Co.\, IA - 503.46 Ac.\, m/l (000-4049)
LOCATION:{location}
DESCRIPTION:503.46 Acres Will Be Offered in 6 Parcels!
URL:https://hertz.bwpreview.com/auctions/detail/bw139505
SEQUENCE:1
END:VEVENT
END:VCALENDAR