BEGIN:VCALENDAR
VERSION:2.0
PRODID:-//ExpressionEngine Easy iCalendar plugin//NONSGML v2.0.1//EN
X-WR-TIMEZONE:America/Chicago
X-WR-CALNAME:Upcoming Auctions
BEGIN:VEVENT
UID:139144
DTSTAMP:20250528T100000
DTSTART:20250528T100000
DTEND:20250528T110000
SUMMARY:Closed - Adair Co.\, IA - 87.60 Ac.\, ml/ (000-4079-01)
LOCATION:180th St. @ Sheldon Ave.\, Stuart\, IA 50250\, US
DESCRIPTION:  Quality Adair County Farm!
URL:https://hertz.bwpreview.com/auctions/detail/bw139144
SEQUENCE:1
END:VEVENT
END:VCALENDAR