BEGIN:VCALENDAR
VERSION:2.0
PRODID:-//ExpressionEngine Easy iCalendar plugin//NONSGML v2.0.1//EN
X-WR-TIMEZONE:America/Chicago
X-WR-CALNAME:Upcoming Auctions
BEGIN:VEVENT
UID:138978
DTSTAMP:20250515T120000
DTSTART:20250515T120000
DTEND:20250515T130000
SUMMARY:Sale Pending - Keokuk Co.\, IA - 151.88 Ac.\, m/l (180-0190)
LOCATION:{location}
DESCRIPTION:151.88 Acres Will be Offered in 2 Parcels!
URL:https://hertz.bwpreview.com/auctions/detail/bw138978
SEQUENCE:1
END:VEVENT
END:VCALENDAR