BEGIN:VCALENDAR
VERSION:2.0
PRODID:-//ExpressionEngine Easy iCalendar plugin//NONSGML v2.0.1//EN
X-WR-TIMEZONE:America/Chicago
X-WR-CALNAME:Upcoming Auctions
BEGIN:VEVENT
UID:132007
DTSTAMP:20250108T110000
DTSTART:20250108T110000
DTEND:20250108T120000
SUMMARY:Closed - Brown Co.\, MN - 160.36 Ac.\, m/l (190-0252-01)
LOCATION:300th Ave./ T-138\, Sleepy Eye\, MN 56085\, US
DESCRIPTION:160.36 Acres Will be Offered in 1 Parcel!
URL:https://hertz.bwpreview.com/auctions/detail/bw132007
SEQUENCE:1
END:VEVENT
END:VCALENDAR